BEGIN:VCALENDAR
PRODID:-//Mozilla.org/NONSGML Mozilla Calendar V1.1//EN
VERSION:2.0
BEGIN:VEVENT
CREATED:20250412T074132Z
LAST-MODIFIED:20250412T074441Z
DTSTAMP:20250412T074441Z
UID:f8098f2d-0a23-47da-83cf-4af133d5a837
SUMMARY:Aixcoin Core development IRC meeting
RRULE:FREQ=WEEKLY
DTSTART:20250417T160000Z
DTEND:20250417T170000Z
TRANSP:OPAQUE
LOCATION:#aixcoin-core-dev on Libera.chat
SEQUENCE:1
X-MOZ-GENERATION:1
END:VEVENT
END:VCALENDAR
